BEGIN:VCALENDAR
VERSION:2.0
PRODID:-//Blossom Montessori School for the Deaf - ECPv6.15.20//NONSGML v1.0//EN
CALSCALE:GREGORIAN
METHOD:PUBLISH
X-WR-CALNAME:Blossom Montessori School for the Deaf
X-ORIGINAL-URL:https://blossomschool.org
X-WR-CALDESC:Events for Blossom Montessori School for the Deaf
REFRESH-INTERVAL;VALUE=DURATION:PT1H
X-Robots-Tag:noindex
X-PUBLISHED-TTL:PT1H
BEGIN:VTIMEZONE
TZID:America/New_York
BEGIN:DAYLIGHT
TZOFFSETFROM:-0500
TZOFFSETTO:-0400
TZNAME:EDT
DTSTART:20250309T070000
END:DAYLIGHT
BEGIN:STANDARD
TZOFFSETFROM:-0400
TZOFFSETTO:-0500
TZNAME:EST
DTSTART:20251102T060000
END:STANDARD
BEGIN:DAYLIGHT
TZOFFSETFROM:-0500
TZOFFSETTO:-0400
TZNAME:EDT
DTSTART:20260308T070000
END:DAYLIGHT
BEGIN:STANDARD
TZOFFSETFROM:-0400
TZOFFSETTO:-0500
TZNAME:EST
DTSTART:20261101T060000
END:STANDARD
BEGIN:DAYLIGHT
TZOFFSETFROM:-0500
TZOFFSETTO:-0400
TZNAME:EDT
DTSTART:20270314T070000
END:DAYLIGHT
BEGIN:STANDARD
TZOFFSETFROM:-0400
TZOFFSETTO:-0500
TZNAME:EST
DTSTART:20271107T060000
END:STANDARD
END:VTIMEZONE
BEGIN:VEVENT
DTSTART;TZID=America/New_York:20260520T100000
DTEND;TZID=America/New_York:20260520T100000
DTSTAMP:20260422T143949
CREATED:20250829T055402Z
LAST-MODIFIED:20250829T055402Z
UID:4190-1779271200-1779271200@blossomschool.org
SUMMARY:Stepping Up Ceremony
DESCRIPTION:May 20th Family Event: Stepping Up Ceremony – 10:00am Location: Blossom’s 6-9 Classroom Students MUST arrive at 9:30am SHARP for quick dress rehearsal. Dressy event for all. Parents & siblings “Mix & Mingle” outside until the doors open for family & guest seating at 9:45am. Event will begin at 10:00am sharp!!!! All students will be dismissed to a Parent or Guardian after the event ends (around 12:00pm). Official Last Day of School – Summer Break Begins!
URL:https://blossomschool.org/event/stepping-up-ceremony/
CATEGORIES:Ceremony
END:VEVENT
END:VCALENDAR